BEGIN:VCALENDAR
VERSION:2.0
PRODID:-//Xtreme Radio - 104FM SVG - ECPv6.13.2.1//NONSGML v1.0//EN
CALSCALE:GREGORIAN
METHOD:PUBLISH
X-ORIGINAL-URL:https://x104fm.com
X-WR-CALDESC:Events for Xtreme Radio - 104FM SVG
REFRESH-INTERVAL;VALUE=DURATION:PT1H
X-Robots-Tag:noindex
X-PUBLISHED-TTL:PT1H
BEGIN:VTIMEZONE
TZID:America/St_Vincent
BEGIN:STANDARD
TZOFFSETFROM:-0400
TZOFFSETTO:-0400
TZNAME:AST
DTSTART:20240101T000000
END:STANDARD
END:VTIMEZONE
BEGIN:VEVENT
DTSTART;VALUE=DATE:20240701
DTEND;VALUE=DATE:20240702
DTSTAMP:20260423T153555
CREATED:20240419T150157Z
LAST-MODIFIED:20240424T132807Z
UID:27545-1719792000-1719878399@x104fm.com
SUMMARY:Xperience Soca Therapy
DESCRIPTION:
URL:https://x104fm.com/event/xperience-soca-therapy/
LOCATION:ET Joshua Tarmac\, Kingstown\, Arnos Vale\, 0100\, Saint Vincent and The Grenadines
CATEGORIES:Event,Soca
ATTACH;FMTTYPE=image/jpeg:https://x104fm.com/wp-content/uploads/2024/04/WhatsApp-Image-2024-03-24-at-4.51.43-PM.jpeg
END:VEVENT
END:VCALENDAR